Package: RPA Version: 1.67.0 Command: /home/biocbuild/bbs-3.23-bioc/R/bin/R CMD build --keep-empty-dirs --no-resave-data RPA StartedAt: 2025-11-02 19:37:31 -0500 (Sun, 02 Nov 2025) EndedAt: 2025-11-02 19:37:54 -0500 (Sun, 02 Nov 2025) EllapsedTime: 23.0 seconds RetCode: 0 Status: OK PackageFile: RPA_1.67.0.tar.gz PackageFileSize: 260.5 KiB