Package: RPA Version: 1.67.0 Command: /Library/Frameworks/R.framework/Resources/bin/R CMD INSTALL RPA StartedAt: 2025-11-21 15:22:57 -0500 (Fri, 21 Nov 2025) EndedAt: 2025-11-21 15:23:28 -0500 (Fri, 21 Nov 2025) EllapsedTime: 31.4 seconds RetCode: 0 Status: OK