Package: RPA Version: 1.67.0 Command: /Library/Frameworks/R.framework/Resources/bin/R CMD build --keep-empty-dirs --no-resave-data RPA StartedAt: 2025-11-21 18:27:40 -0500 (Fri, 21 Nov 2025) EndedAt: 2025-11-21 18:28:09 -0500 (Fri, 21 Nov 2025) EllapsedTime: 28.6 seconds RetCode: 0 Status: OK PackageFile: RPA_1.67.0.tar.gz PackageFileSize: 260.5 KiB