Package: RPA Version: 1.67.0 Command: /Library/Frameworks/R.framework/Resources/bin/R CMD build --keep-empty-dirs --no-resave-data RPA StartedAt: 2025-11-20 17:30:44 -0500 (Thu, 20 Nov 2025) EndedAt: 2025-11-20 17:30:53 -0500 (Thu, 20 Nov 2025) EllapsedTime: 9.1 seconds RetCode: 0 Status: OK PackageFile: RPA_1.67.0.tar.gz PackageFileSize: 260.5 KiB