Package: ROntoTools Version: 2.37.0 Command: /home/biocbuild/R/R/bin/R CMD INSTALL ROntoTools StartedAt: 2025-10-13 21:00:48 -0000 (Mon, 13 Oct 2025) EndedAt: 2025-10-13 21:01:04 -0000 (Mon, 13 Oct 2025) EllapsedTime: 15.4 seconds RetCode: 0 Status: OK