Package: ROntoTools Version: 2.37.0 Command: /home/biocbuild/R/R/bin/R CMD build --keep-empty-dirs --no-resave-data ROntoTools StartedAt: 2025-10-17 04:08:06 -0000 (Fri, 17 Oct 2025) EndedAt: 2025-10-17 04:08:59 -0000 (Fri, 17 Oct 2025) EllapsedTime: 53.0 seconds RetCode: 0 Status: OK PackageFile: ROntoTools_2.37.0.tar.gz PackageFileSize: 1.475 MiB