Package: ROntoTools Version: 2.39.0 Command: /home/biocbuild/bbs-3.23-bioc/R/bin/R CMD INSTALL ROntoTools StartedAt: 2025-11-04 15:24:14 -0500 (Tue, 04 Nov 2025) EndedAt: 2025-11-04 15:24:27 -0500 (Tue, 04 Nov 2025) EllapsedTime: 12.7 seconds RetCode: 0 Status: OK