Package: ROntoTools Version: 2.39.0 Command: /home/biocbuild/bbs-3.23-bioc/R/bin/R CMD check --install=check:ROntoTools.install-out.txt --library=/home/biocbuild/bbs-3.23-bioc/R/site-library --timings ROntoTools_2.39.0.tar.gz StartedAt: 2025-11-24 03:18:59 -0500 (Mon, 24 Nov 2025) EndedAt: 2025-11-24 03:21:52 -0500 (Mon, 24 Nov 2025) EllapsedTime: 173.2 seconds RetCode: 0 Status: WARNINGS CheckDir: ROntoTools.Rcheck Warnings: 1