Package: ROntoTools Version: 2.39.0 Command: /home/biocbuild/bbs-3.23-bioc/R/bin/R CMD build --keep-empty-dirs --no-resave-data ROntoTools StartedAt: 2025-11-04 19:37:02 -0500 (Tue, 04 Nov 2025) EndedAt: 2025-11-04 19:37:41 -0500 (Tue, 04 Nov 2025) EllapsedTime: 39.0 seconds RetCode: 0 Status: OK PackageFile: ROntoTools_2.39.0.tar.gz PackageFileSize: 1.486 MiB