Package: ROTS Version: 2.1.1 Command: /home/biocbuild/bbs-3.22-bioc/R/bin/R CMD INSTALL ROTS StartedAt: 2025-10-10 15:26:38 -0400 (Fri, 10 Oct 2025) EndedAt: 2025-10-10 15:26:56 -0400 (Fri, 10 Oct 2025) EllapsedTime: 17.6 seconds RetCode: 0 Status: OK