Package: ROTS Version: 2.1.1 Command: /home/biocbuild/bbs-3.22-bioc/R/bin/R CMD build --keep-empty-dirs --no-resave-data --md5 ROTS StartedAt: 2025-10-10 19:54:00 -0400 (Fri, 10 Oct 2025) EndedAt: 2025-10-10 19:54:27 -0400 (Fri, 10 Oct 2025) EllapsedTime: 27.0 seconds RetCode: 0 Status: OK PackageFile: ROTS_2.1.1.tar.gz PackageFileSize: 461 KiB