Package: ROTS Version: 2.3.0 Command: /home/biocbuild/bbs-3.23-bioc/R/bin/R CMD INSTALL ROTS StartedAt: 2025-11-06 15:13:29 -0500 (Thu, 06 Nov 2025) EndedAt: 2025-11-06 15:13:48 -0500 (Thu, 06 Nov 2025) EllapsedTime: 18.2 seconds RetCode: 0 Status: OK