Package: ROTS Version: 2.3.0 Command: /home/biocbuild/bbs-3.23-bioc/R/bin/R CMD build --keep-empty-dirs --no-resave-data ROTS StartedAt: 2025-11-06 19:36:29 -0500 (Thu, 06 Nov 2025) EndedAt: 2025-11-06 19:36:55 -0500 (Thu, 06 Nov 2025) EllapsedTime: 26.0 seconds RetCode: 0 Status: OK PackageFile: ROTS_2.3.0.tar.gz PackageFileSize: 459.2 KiB