Package: ROTS Version: 2.1.1 Command: /Library/Frameworks/R.framework/Resources/bin/R CMD INSTALL ROTS StartedAt: 2025-10-10 15:12:17 -0400 (Fri, 10 Oct 2025) EndedAt: 2025-10-10 15:12:23 -0400 (Fri, 10 Oct 2025) EllapsedTime: 5.7 seconds RetCode: 0 Status: OK