Package: ROTS Version: 2.1.1 Command: /Library/Frameworks/R.framework/Resources/bin/R CMD build --keep-empty-dirs --no-resave-data ROTS StartedAt: 2025-10-10 17:32:57 -0400 (Fri, 10 Oct 2025) EndedAt: 2025-10-10 17:33:09 -0400 (Fri, 10 Oct 2025) EllapsedTime: 12.1 seconds RetCode: 0 Status: OK PackageFile: ROTS_2.1.1.tar.gz PackageFileSize: 459.4 KiB