Package: ROTS Version: 2.1.1 Command: rm -rf ROTS.buildbin-libdir && mkdir ROTS.buildbin-libdir && /Users/biocbuild/BBS/utils/build-universal.sh ROTS_2.1.1.tar.gz /Library/Frameworks/R.framework/Resources/bin/R ROTS.buildbin-libdir StartedAt: 2025-10-12 22:51:26 -0400 (Sun, 12 Oct 2025) EndedAt: 2025-10-12 22:51:33 -0400 (Sun, 12 Oct 2025) EllapsedTime: 7.2 seconds RetCode: 0 Status: OK PackageFile: ROTS_2.1.1.tgz PackageFileSize: 562.8 KiB