Package: ROSeq Version: 1.21.0 Command: /home/biocbuild/R/R/bin/R CMD INSTALL ROSeq StartedAt: 2025-10-02 20:19:05 -0000 (Thu, 02 Oct 2025) EndedAt: 2025-10-02 20:19:36 -0000 (Thu, 02 Oct 2025) EllapsedTime: 31.1 seconds RetCode: 0 Status: OK