Package: ROSeq Version: 1.21.0 Command: /home/biocbuild/R/R/bin/R CMD build --keep-empty-dirs --no-resave-data ROSeq StartedAt: 2025-10-03 02:44:09 -0000 (Fri, 03 Oct 2025) EndedAt: 2025-10-03 02:49:46 -0000 (Fri, 03 Oct 2025) EllapsedTime: 337.2 seconds RetCode: 0 Status: OK PackageFile: ROSeq_1.21.0.tar.gz PackageFileSize: 4.192 MiB