Package: ROSeq Version: 1.21.0 Command: /home/biocbuild/bbs-3.22-bioc/R/bin/R CMD INSTALL ROSeq StartedAt: 2025-10-03 15:02:44 -0400 (Fri, 03 Oct 2025) EndedAt: 2025-10-03 15:03:05 -0400 (Fri, 03 Oct 2025) EllapsedTime: 20.5 seconds RetCode: 0 Status: OK