Package: ROSeq Version: 1.21.0 Command: /home/biocbuild/bbs-3.22-bioc/R/bin/R CMD check --install=check:ROSeq.install-out.txt --library=/home/biocbuild/bbs-3.22-bioc/R/site-library --timings ROSeq_1.21.0.tar.gz StartedAt: 2025-10-04 03:37:41 -0400 (Sat, 04 Oct 2025) EndedAt: 2025-10-04 03:45:39 -0400 (Sat, 04 Oct 2025) EllapsedTime: 477.5 seconds RetCode: 0 Status: WARNINGS CheckDir: ROSeq.Rcheck Warnings: 1