Package: ROSeq Version: 1.23.0 Command: /home/biocbuild/bbs-3.23-bioc/R/bin/R CMD check --install=check:ROSeq.install-out.txt --library=/home/biocbuild/bbs-3.23-bioc/R/site-library --timings ROSeq_1.23.0.tar.gz StartedAt: 2025-11-03 02:53:45 -0500 (Mon, 03 Nov 2025) EndedAt: 2025-11-03 03:01:41 -0500 (Mon, 03 Nov 2025) EllapsedTime: 475.7 seconds RetCode: 0 Status: WARNINGS CheckDir: ROSeq.Rcheck Warnings: 1