Package: ROSeq Version: 1.23.0 Command: /home/biocbuild/bbs-3.23-bioc/R/bin/R CMD build --keep-empty-dirs --no-resave-data ROSeq StartedAt: 2025-11-03 19:34:16 -0500 (Mon, 03 Nov 2025) EndedAt: 2025-11-03 19:37:55 -0500 (Mon, 03 Nov 2025) EllapsedTime: 218.3 seconds RetCode: 0 Status: OK PackageFile: ROSeq_1.23.0.tar.gz PackageFileSize: 4.19 MiB