Package: ROSeq Version: 1.21.0 Command: /Library/Frameworks/R.framework/Resources/bin/R CMD INSTALL ROSeq StartedAt: 2025-10-03 15:02:19 -0400 (Fri, 03 Oct 2025) EndedAt: 2025-10-03 15:02:28 -0400 (Fri, 03 Oct 2025) EllapsedTime: 9.3 seconds RetCode: 0 Status: OK