Package: ROCpAI Version: 1.21.0 Command: /home/biocbuild/R/R/bin/R CMD INSTALL ROCpAI StartedAt: 2025-09-29 20:55:27 -0000 (Mon, 29 Sep 2025) EndedAt: 2025-09-29 20:55:53 -0000 (Mon, 29 Sep 2025) EllapsedTime: 26.8 seconds RetCode: 0 Status: OK