Package: ROCpAI Version: 1.21.0 Command: /home/biocbuild/R/R/bin/R CMD build --keep-empty-dirs --no-resave-data ROCpAI StartedAt: 2025-09-30 02:48:47 -0000 (Tue, 30 Sep 2025) EndedAt: 2025-09-30 02:49:28 -0000 (Tue, 30 Sep 2025) EllapsedTime: 41.0 seconds RetCode: 0 Status: OK PackageFile: ROCpAI_1.21.0.tar.gz PackageFileSize: 408.1 KiB