Package: ROCpAI Version: 1.21.0 Command: F:\biocbuild\bbs-3.22-bioc\R\bin\R.exe CMD INSTALL ROCpAI StartedAt: 2025-08-14 16:02:51 -0400 (Thu, 14 Aug 2025) EndedAt: 2025-08-14 16:03:15 -0400 (Thu, 14 Aug 2025) EllapsedTime: 23.7 seconds RetCode: 0 Status: OK