Package: ROCpAI Version: 1.21.0 Command: rm -rf ROCpAI.buildbin-libdir && mkdir ROCpAI.buildbin-libdir && F:\biocbuild\bbs-3.22-bioc\R\bin\R.exe CMD INSTALL --build --library=ROCpAI.buildbin-libdir ROCpAI_1.21.0.tar.gz StartedAt: 2025-08-15 11:10:21 -0400 (Fri, 15 Aug 2025) EndedAt: 2025-08-15 11:10:47 -0400 (Fri, 15 Aug 2025) EllapsedTime: 25.8 seconds RetCode: 0 Status: OK PackageFile: ROCpAI_1.21.0.zip PackageFileSize: 366.3 KiB