Package: ROCpAI Version: 1.23.0 Command: /home/biocbuild/bbs-3.23-bioc/R/bin/R CMD INSTALL ROCpAI StartedAt: 2025-11-02 15:29:29 -0500 (Sun, 02 Nov 2025) EndedAt: 2025-11-02 15:29:49 -0500 (Sun, 02 Nov 2025) EllapsedTime: 20.2 seconds RetCode: 0 Status: OK