Package: ROCpAI Version: 1.23.0 Command: /home/biocbuild/bbs-3.23-bioc/R/bin/R CMD check --install=check:ROCpAI.install-out.txt --library=/home/biocbuild/bbs-3.23-bioc/R/site-library --timings ROCpAI_1.23.0.tar.gz StartedAt: 2025-11-03 02:53:36 -0500 (Mon, 03 Nov 2025) EndedAt: 2025-11-03 02:56:06 -0500 (Mon, 03 Nov 2025) EllapsedTime: 150.2 seconds RetCode: 0 Status: OK CheckDir: ROCpAI.Rcheck Warnings: 0