Package: ROCpAI Version: 1.23.0 Command: /home/biocbuild/bbs-3.23-bioc/R/bin/R CMD build --keep-empty-dirs --no-resave-data ROCpAI StartedAt: 2025-11-03 19:33:58 -0500 (Mon, 03 Nov 2025) EndedAt: 2025-11-03 19:34:29 -0500 (Mon, 03 Nov 2025) EllapsedTime: 31.0 seconds RetCode: 0 Status: OK PackageFile: ROCpAI_1.23.0.tar.gz PackageFileSize: 407.6 KiB