Package: ROC Version: 1.87.0 Command: /home/biocbuild/bbs-3.23-bioc/R/bin/R CMD INSTALL ROC StartedAt: 2025-11-07 15:05:53 -0500 (Fri, 07 Nov 2025) EndedAt: 2025-11-07 15:06:08 -0500 (Fri, 07 Nov 2025) EllapsedTime: 14.9 seconds RetCode: 0 Status: OK