Package: ROC Version: 1.85.0 Command: /Library/Frameworks/R.framework/Resources/bin/R CMD INSTALL ROC StartedAt: 2025-10-14 15:08:24 -0400 (Tue, 14 Oct 2025) EndedAt: 2025-10-14 15:09:21 -0400 (Tue, 14 Oct 2025) EllapsedTime: 57.0 seconds RetCode: 0 Status: OK