Package: ROC Version: 1.85.0 Command: rm -rf ROC.buildbin-libdir && mkdir ROC.buildbin-libdir && /Users/biocbuild/BBS/utils/build-universal.sh ROC_1.85.0.tar.gz /Library/Frameworks/R.framework/Resources/bin/R ROC.buildbin-libdir StartedAt: 2025-10-15 03:04:47 -0400 (Wed, 15 Oct 2025) EndedAt: 2025-10-15 03:04:56 -0400 (Wed, 15 Oct 2025) EllapsedTime: 9.2 seconds RetCode: 0 Status: OK PackageFile: ROC_1.85.0.tgz PackageFileSize: 271.3 KiB