Package: RNAseqCovarImpute Version: 1.9.0 Command: /home/biocbuild/bbs-3.23-bioc/R/bin/R CMD build --keep-empty-dirs --no-resave-data RNAseqCovarImpute StartedAt: 2025-11-20 19:41:10 -0500 (Thu, 20 Nov 2025) EndedAt: 2025-11-20 19:41:57 -0500 (Thu, 20 Nov 2025) EllapsedTime: 47.0 seconds RetCode: 0 Status: OK PackageFile: RNAseqCovarImpute_1.9.0.tar.gz PackageFileSize: 767.9 KiB