Package: RNAseqCovarImpute Version: 1.7.0 Command: /Library/Frameworks/R.framework/Resources/bin/R CMD INSTALL RNAseqCovarImpute StartedAt: 2025-10-27 15:12:21 -0400 (Mon, 27 Oct 2025) EndedAt: 2025-10-27 15:12:37 -0400 (Mon, 27 Oct 2025) EllapsedTime: 15.9 seconds RetCode: 0 Status: OK