Package: RNAseqCovarImpute Version: 1.7.0 Command: rm -rf RNAseqCovarImpute.buildbin-libdir && mkdir RNAseqCovarImpute.buildbin-libdir && /Users/biocbuild/BBS/utils/build-universal.sh RNAseqCovarImpute_1.7.0.tar.gz /Library/Frameworks/R.framework/Resources/bin/R RNAseqCovarImpute.buildbin-libdir StartedAt: 2025-10-29 01:54:43 -0400 (Wed, 29 Oct 2025) EndedAt: 2025-10-29 01:55:02 -0400 (Wed, 29 Oct 2025) EllapsedTime: 19.3 seconds RetCode: 0 Status: OK PackageFile: RNAseqCovarImpute_1.7.0.tgz PackageFileSize: 799.8 KiB