Package: RNAseqCovarImpute Version: 1.7.0 Command: /Library/Frameworks/R.framework/Resources/bin/R CMD build --keep-empty-dirs --no-resave-data RNAseqCovarImpute StartedAt: 2025-10-13 17:33:01 -0400 (Mon, 13 Oct 2025) EndedAt: 2025-10-13 17:33:22 -0400 (Mon, 13 Oct 2025) EllapsedTime: 21.2 seconds RetCode: 0 Status: OK PackageFile: RNAseqCovarImpute_1.7.0.tar.gz PackageFileSize: 767.7 KiB