Package: RNAseqCovarImpute Version: 1.7.0 Command: rm -rf RNAseqCovarImpute.buildbin-libdir && mkdir RNAseqCovarImpute.buildbin-libdir && /Users/biocbuild/BBS/utils/build-universal.sh RNAseqCovarImpute_1.7.0.tar.gz /Library/Frameworks/R.framework/Resources/bin/R RNAseqCovarImpute.buildbin-libdir StartedAt: 2025-10-14 23:36:02 -0400 (Tue, 14 Oct 2025) EndedAt: 2025-10-14 23:36:07 -0400 (Tue, 14 Oct 2025) EllapsedTime: 5.1 seconds RetCode: 0 Status: OK PackageFile: RNAseqCovarImpute_1.7.0.tgz PackageFileSize: 801.1 KiB