Package: RNAseqCovarImpute Version: 1.9.0 Maintainer: Brennan Baker MaintainerEmail: brennanhilton at gmail.com git_url: https://git.bioconductor.org/packages/RNAseqCovarImpute git_branch: devel git_last_commit: c21a243 git_last_commit_date: 2025-10-29 11:25:57 -0400 (Wed, 29 Oct 2025)