Package: RNAsense Version: 1.25.0 Command: /home/biocbuild/bbs-3.23-bioc/R/bin/R CMD build --keep-empty-dirs --no-resave-data RNAsense StartedAt: 2025-11-20 19:40:42 -0500 (Thu, 20 Nov 2025) EndedAt: 2025-11-20 19:45:00 -0500 (Thu, 20 Nov 2025) EllapsedTime: 258.2 seconds RetCode: 0 Status: OK PackageFile: RNAsense_1.25.0.tar.gz PackageFileSize: 898.1 KiB