Package: RNAsense Version: 1.23.0 Command: rm -rf RNAsense.buildbin-libdir && mkdir RNAsense.buildbin-libdir && /Users/biocbuild/BBS/utils/build-universal.sh RNAsense_1.23.0.tar.gz /Library/Frameworks/R.framework/Resources/bin/R RNAsense.buildbin-libdir StartedAt: 2025-10-16 23:15:12 -0400 (Thu, 16 Oct 2025) EndedAt: 2025-10-16 23:15:23 -0400 (Thu, 16 Oct 2025) EllapsedTime: 11.2 seconds RetCode: 0 Status: OK PackageFile: RNAsense_1.23.0.tgz PackageFileSize: 950.5 KiB