Package: RNAmodR Version: 1.23.2 Command: /home/biocbuild/R/R/bin/R CMD INSTALL RNAmodR StartedAt: 2025-09-29 21:30:03 -0000 (Mon, 29 Sep 2025) EndedAt: 2025-09-29 21:31:41 -0000 (Mon, 29 Sep 2025) EllapsedTime: 98.2 seconds RetCode: 0 Status: OK