Package: RNAmodR Version: 1.23.2 Command: /home/biocbuild/R/R/bin/R CMD build --keep-empty-dirs --no-resave-data RNAmodR StartedAt: 2025-09-30 02:45:25 -0000 (Tue, 30 Sep 2025) EndedAt: 2025-09-30 02:50:06 -0000 (Tue, 30 Sep 2025) EllapsedTime: 280.2 seconds RetCode: 0 Status: OK PackageFile: RNAmodR_1.23.2.tar.gz PackageFileSize: 1.431 MiB