Package: RNAmodR Version: 1.23.1 Command: chmod a+r RNAmodR -R && F:\biocbuild\bbs-3.22-bioc\R\bin\R.exe CMD build --keep-empty-dirs --no-resave-data RNAmodR StartedAt: 2025-08-14 22:49:40 -0400 (Thu, 14 Aug 2025) EndedAt: 2025-08-14 22:54:51 -0400 (Thu, 14 Aug 2025) EllapsedTime: 311.1 seconds RetCode: 0 Status: OK PackageFile: RNAmodR_1.23.1.tar.gz PackageFileSize: 1.292 MiB