Package: RNAmodR Version: 1.23.1 Command: rm -rf RNAmodR.buildbin-libdir && mkdir RNAmodR.buildbin-libdir && F:\biocbuild\bbs-3.22-bioc\R\bin\R.exe CMD INSTALL --build --library=RNAmodR.buildbin-libdir RNAmodR_1.23.1.tar.gz StartedAt: 2025-08-15 11:09:33 -0400 (Fri, 15 Aug 2025) EndedAt: 2025-08-15 11:12:26 -0400 (Fri, 15 Aug 2025) EllapsedTime: 172.7 seconds RetCode: 0 Status: OK PackageFile: RNAmodR_1.23.1.zip PackageFileSize: 2.748 MiB