Package: RNAmodR Version: 1.25.0 Command: /home/biocbuild/bbs-3.23-bioc/R/bin/R CMD build --keep-empty-dirs --no-resave-data RNAmodR StartedAt: 2025-11-05 19:41:37 -0500 (Wed, 05 Nov 2025) EndedAt: 2025-11-05 19:41:53 -0500 (Wed, 05 Nov 2025) EllapsedTime: 16.0 seconds RetCode: 1 Status: ERROR PackageFile: None PackageFileSize: NA