############################################################################## ############################################################################## ### ### Running command: ### ### /home/biocbuild/bbs-3.23-bioc/R/bin/R CMD build --keep-empty-dirs --no-resave-data RNAmodR ### ############################################################################## ############################################################################## * checking for file ‘RNAmodR/DESCRIPTION’ ... OK * preparing ‘RNAmodR’: * checking DESCRIPTION meta-information ... OK * installing the package (it is needed to build vignettes) ----------------------------------- * installing *source* package ‘RNAmodR’ ... ** this is package ‘RNAmodR’ version ‘1.25.0’ ** using staged installation ** R ** data ** inst ** byte-compile and prepare package for lazy loading Error in get_seqtype_conversion_lookup("B", seqtype(x0)) : Biostrings internal error, please report Error: unable to load R code in package 'RNAmodR' Execution halted ERROR: lazy loading failed for package ‘RNAmodR’ * removing ‘/tmp/Rtmp2kd2ee/Rinst13717f5da71182/RNAmodR’ ----------------------------------- ERROR: package installation failed