Package: RNAmodR Version: 1.23.2 Maintainer: Felix G.M. Ernst MaintainerEmail: felix.gm.ernst at outlook.com git_url: https://git.bioconductor.org/packages/RNAmodR git_branch: devel git_last_commit: c241cdb git_last_commit_date: 2025-09-23 16:09:50 -0400 (Tue, 23 Sep 2025)