Package: RNAmodR.RiboMethSeq Version: 1.25.0 Command: /home/biocbuild/bbs-3.23-bioc/R/bin/R CMD INSTALL RNAmodR.RiboMethSeq StartedAt: 2025-11-02 15:57:58 -0500 (Sun, 02 Nov 2025) EndedAt: 2025-11-02 15:58:57 -0500 (Sun, 02 Nov 2025) EllapsedTime: 59.1 seconds RetCode: 0 Status: OK