Package: RNAmodR.RiboMethSeq Version: 1.25.0 Command: /home/biocbuild/bbs-3.23-bioc/R/bin/R CMD check --install=check:RNAmodR.RiboMethSeq.install-out.txt --library=/home/biocbuild/bbs-3.23-bioc/R/site-library --timings RNAmodR.RiboMethSeq_1.25.0.tar.gz StartedAt: 2025-11-05 03:06:47 -0500 (Wed, 05 Nov 2025) EndedAt: 2025-11-05 03:14:55 -0500 (Wed, 05 Nov 2025) EllapsedTime: 488.7 seconds RetCode: 0 Status: OK CheckDir: RNAmodR.RiboMethSeq.Rcheck Warnings: 0